Package: clusterSeq Version: 1.35.0 Command: /home/biocbuild/bbs-3.23-bioc/R/bin/R CMD check --install=check:clusterSeq.install-out.txt --library=/home/biocbuild/bbs-3.23-bioc/R/site-library --timings clusterSeq_1.35.0.tar.gz StartedAt: 2025-11-04 21:58:30 -0500 (Tue, 04 Nov 2025) EndedAt: 2025-11-04 22:02:19 -0500 (Tue, 04 Nov 2025) EllapsedTime: 229.4 seconds RetCode: 0 Status: OK CheckDir: clusterSeq.Rcheck Warnings: 0