Package: clusterSeq Version: 1.33.0 Command: /Library/Frameworks/R.framework/Resources/bin/R CMD check --install=check:clusterSeq.install-out.txt --library=/Library/Frameworks/R.framework/Resources/library --no-vignettes --timings clusterSeq_1.33.0.tar.gz StartedAt: 2025-10-12 18:42:41 -0400 (Sun, 12 Oct 2025) EndedAt: 2025-10-12 18:43:56 -0400 (Sun, 12 Oct 2025) EllapsedTime: 74.9 seconds RetCode: 0 Status: OK CheckDir: clusterSeq.Rcheck Warnings: 0