Package: clusterProfiler Version: 4.19.1 Command: /home/biocbuild/bbs-3.23-bioc/R/bin/R CMD INSTALL clusterProfiler StartedAt: 2025-11-04 15:48:04 -0500 (Tue, 04 Nov 2025) EndedAt: 2025-11-04 15:48:30 -0500 (Tue, 04 Nov 2025) EllapsedTime: 26.2 seconds RetCode: 0 Status: OK