Package: clusterProfiler Version: 4.19.1 Command: /home/biocbuild/bbs-3.23-bioc/R/bin/R CMD check --install=check:clusterProfiler.install-out.txt --library=/home/biocbuild/bbs-3.23-bioc/R/site-library --timings clusterProfiler_4.19.1.tar.gz StartedAt: 2025-11-04 21:57:45 -0500 (Tue, 04 Nov 2025) EndedAt: 2025-11-04 22:01:23 -0500 (Tue, 04 Nov 2025) EllapsedTime: 218.3 seconds RetCode: 0 Status: OK CheckDir: clusterProfiler.Rcheck Warnings: 0