Back to Build/check report for BioC 3.23:   simplified   long
AB[C]DEFGHIJKLMNOPQRSTUVWXYZ

This page was generated on 2025-11-05 11:32 -0500 (Wed, 05 Nov 2025).

HostnameOSArch (*)R versionInstalled pkgs
nebbiolo1Linux (Ubuntu 24.04.3 LTS)x86_64R Under development (unstable) (2025-10-20 r88955) -- "Unsuffered Consequences" 4818
Click on any hostname to see more info about the system (e.g. compilers)      (*) as reported by 'uname -p', except on Windows and Mac OS X

All results for package clusterProfiler


To the developers/maintainers of the clusterProfiler package:
- Allow up to 24 hours (and sometimes 48 hours) for your latest push to git@git.bioconductor.org:packages/clusterProfiler.git to reflect on this report. See Troubleshooting Build Report for more information.
- Use the following Renviron settings to reproduce errors and warnings.
- If 'R CMD check' started to fail recently on the Linux builder(s) over a missing dependency, add the missing dependency to 'Suggests:' in your DESCRIPTION file. See Renviron.bioc for more information.

raw results

Package 381/2323HostnameOS / ArchINSTALLBUILDCHECKBUILD BIN
clusterProfiler 4.19.1  (landing page)
Guangchuang Yu
Snapshot Date: 2025-11-04 13:40 -0500 (Tue, 04 Nov 2025)
git_url: https://git.bioconductor.org/packages/clusterProfiler
git_branch: devel
git_last_commit: c6e07d0
git_last_commit_date: 2025-11-01 10:45:20 -0500 (Sat, 01 Nov 2025)
nebbiolo1Linux (Ubuntu 24.04.3 LTS) / x86_64  OK    OK    OK  UNNEEDED, same version is already published



Results for Bioconductor software packages that depend directly on package clusterProfiler

QUICK STATSOS / ArchINSTALLBUILDCHECKBUILD BIN
nebbiolo1Linux (Ubuntu 24.04.3 LTS) / x86_64
0228
0327
01125
Package 1/30HostnameOS / ArchINSTALLBUILDCHECKBUILD BIN
bioCancer 1.39.0  (landing page)
Karim Mezhoud
git_last_commit: 45dcc83
git_last_commit_date: 2025-10-29 10:32:26 -0500
nebbiolo1Linux (Ubuntu 24.04.3 LTS) / x86_64  ERROR    ERROR  skipped
Package 2/30HostnameOS / ArchINSTALLBUILDCHECKBUILD BIN
broadSeq 1.5.0  (landing page)
Rishi Das Roy
git_last_commit: f8280c0
git_last_commit_date: 2025-10-29 11:30:34 -0500
nebbiolo1Linux (Ubuntu 24.04.3 LTS) / x86_64  OK    OK    WARNINGS  NO, package depends on 'DELocal' which is not available
Package 3/30HostnameOS / ArchINSTALLBUILDCHECKBUILD BIN
CaMutQC 1.7.0  (landing page)
Xin Wang
git_last_commit: 65ebd3c
git_last_commit_date: 2025-10-29 11:28:46 -0500
nebbiolo1Linux (Ubuntu 24.04.3 LTS) / x86_64  OK    OK    OK  UNNEEDED, same version is already published
Package 4/30HostnameOS / ArchINSTALLBUILDCHECKBUILD BIN
CBNplot 1.11.0  (landing page)
Noriaki Sato
git_last_commit: a7bbf54
git_last_commit_date: 2025-10-29 11:22:40 -0500
nebbiolo1Linux (Ubuntu 24.04.3 LTS) / x86_64  OK    OK    OK  UNNEEDED, same version is already published
Package 5/30HostnameOS / ArchINSTALLBUILDCHECKBUILD BIN
CEMiTool 1.35.0  (landing page)
Helder Nakaya
git_last_commit: b427585
git_last_commit_date: 2025-10-29 10:40:00 -0500
nebbiolo1Linux (Ubuntu 24.04.3 LTS) / x86_64  OK    OK    OK  UNNEEDED, same version is already published
Package 6/30HostnameOS / ArchINSTALLBUILDCHECKBUILD BIN
CeTF 1.23.0  (landing page)
Carlos Alberto Oliveira de Biagi Junior
git_last_commit: d8786fc
git_last_commit_date: 2025-10-29 10:56:07 -0500
nebbiolo1Linux (Ubuntu 24.04.3 LTS) / x86_64  OK    OK    OK  UNNEEDED, same version is already published
Package 7/30HostnameOS / ArchINSTALLBUILDCHECKBUILD BIN
debrowser 1.39.0  (landing page)
Alper Kucukural
git_last_commit: 17795bc
git_last_commit_date: 2025-10-29 10:30:54 -0500
nebbiolo1Linux (Ubuntu 24.04.3 LTS) / x86_64  OK    OK    OK  YES
Package 8/30HostnameOS / ArchINSTALLBUILDCHECKBUILD BIN
EasyCellType 1.13.0  (landing page)
Ruoxing Li
git_last_commit: a923d4a
git_last_commit_date: 2025-10-29 11:18:20 -0500
nebbiolo1Linux (Ubuntu 24.04.3 LTS) / x86_64  OK    OK    OK  UNNEEDED, same version is already published
Package 9/30HostnameOS / ArchINSTALLBUILDCHECKBUILD BIN
epiregulon.extra 1.7.0  (landing page)
Xiaosai Yao
git_last_commit: a48846b
git_last_commit_date: 2025-10-29 11:30:15 -0500
nebbiolo1Linux (Ubuntu 24.04.3 LTS) / x86_64  OK    OK    OK  YES
Package 10/30HostnameOS / ArchINSTALLBUILDCHECKBUILD BIN
esATAC 1.33.0  (landing page)
Zheng Wei
git_last_commit: 90d779d
git_last_commit_date: 2025-10-29 10:42:12 -0500
nebbiolo1Linux (Ubuntu 24.04.3 LTS) / x86_64  ERROR    ERROR  skipped
Package 11/30HostnameOS / ArchINSTALLBUILDCHECKBUILD BIN
famat 1.21.0  (landing page)
Mathieu Charles
git_last_commit: fa2241a
git_last_commit_date: 2025-10-29 11:04:03 -0500
nebbiolo1Linux (Ubuntu 24.04.3 LTS) / x86_64  OK    ERROR  skipped
Package 12/30HostnameOS / ArchINSTALLBUILDCHECKBUILD BIN
GDCRNATools 1.31.0  (landing page)
Ruidong Li
git_last_commit: 0524945
git_last_commit_date: 2025-10-29 10:42:54 -0500
nebbiolo1Linux (Ubuntu 24.04.3 LTS) / x86_64  OK    OK    OK  NO, package depends on 'GenomicDataCommons' which is not available
Package 13/30HostnameOS / ArchINSTALLBUILDCHECKBUILD BIN
gINTomics 1.7.0  (landing page)
Angelo Velle
git_last_commit: 4cacafe
git_last_commit_date: 2025-10-29 11:30:01 -0500
nebbiolo1Linux (Ubuntu 24.04.3 LTS) / x86_64  OK    OK    OK  NO, package depends on 'OmnipathR' which is not available
Package 14/30HostnameOS / ArchINSTALLBUILDCHECKBUILD BIN
goSorensen 1.13.0  (landing page)
Pablo Flores
git_last_commit: e90d8a2
git_last_commit_date: 2025-10-29 11:18:02 -0500
nebbiolo1Linux (Ubuntu 24.04.3 LTS) / x86_64  OK    OK    OK  UNNEEDED, same version is already published
Package 15/30HostnameOS / ArchINSTALLBUILDCHECKBUILD BIN
MetaPhOR 1.13.0  (landing page)
Emily Isenhart
git_last_commit: d88197a
git_last_commit_date: 2025-10-29 11:19:21 -0500
nebbiolo1Linux (Ubuntu 24.04.3 LTS) / x86_64  OK    OK    OK  UNNEEDED, same version is already published
Package 16/30HostnameOS / ArchINSTALLBUILDCHECKBUILD BIN
methylGSA 1.29.0  (landing page)
Xu Ren
git_last_commit: 2bc09f0
git_last_commit_date: 2025-10-29 10:46:15 -0500
nebbiolo1Linux (Ubuntu 24.04.3 LTS) / x86_64  OK    OK    OK  YES
Package 17/30HostnameOS / ArchINSTALLBUILDCHECKBUILD BIN
MicrobiomeProfiler 1.17.0  (landing page)
Guangchuang Yu
git_last_commit: ef6d1ed
git_last_commit_date: 2025-10-29 11:12:46 -0500
nebbiolo1Linux (Ubuntu 24.04.3 LTS) / x86_64  OK    OK    OK  UNNEEDED, same version is already published
Package 18/30HostnameOS / ArchINSTALLBUILDCHECKBUILD BIN
miRSM 2.7.0  (landing page)
Junpeng Zhang
git_last_commit: 64db36b
git_last_commit_date: 2025-10-29 10:47:11 -0500
nebbiolo1Linux (Ubuntu 24.04.3 LTS) / x86_64  OK    OK    OK  UNNEEDED, same version is already published
Package 19/30HostnameOS / ArchINSTALLBUILDCHECKBUILD BIN
miRspongeR 2.15.0  (landing page)
Junpeng Zhang
git_last_commit: abb7e44
git_last_commit_date: 2025-10-29 10:40:11 -0500
nebbiolo1Linux (Ubuntu 24.04.3 LTS) / x86_64  OK    OK    OK  UNNEEDED, same version is already published
Package 20/30HostnameOS / ArchINSTALLBUILDCHECKBUILD BIN
mitology 1.3.0  (landing page)
Stefania Pirrotta
git_last_commit: ada0939
git_last_commit_date: 2025-10-29 11:36:14 -0500
nebbiolo1Linux (Ubuntu 24.04.3 LTS) / x86_64  OK    OK    OK  UNNEEDED, same version is already published
Package 21/30HostnameOS / ArchINSTALLBUILDCHECKBUILD BIN
Moonlight2R 1.9.0  (landing page)
Matteo Tiberti
git_last_commit: b5e3244
git_last_commit_date: 2025-10-29 11:25:19 -0500
nebbiolo1Linux (Ubuntu 24.04.3 LTS) / x86_64  OK    OK    OK  YES
Package 22/30HostnameOS / ArchINSTALLBUILDCHECKBUILD BIN
MoonlightR 1.37.0  (landing page)
Matteo Tiberti
git_last_commit: 9303ed6
git_last_commit_date: 2025-10-29 10:35:02 -0500
nebbiolo1Linux (Ubuntu 24.04.3 LTS) / x86_64  OK    OK    OK  UNNEEDED, same version is already published
Package 23/30HostnameOS / ArchINSTALLBUILDCHECKBUILD BIN
mosdef 1.7.0  (landing page)
Federico Marini
git_last_commit: 9ba0438
git_last_commit_date: 2025-10-29 11:29:58 -0500
nebbiolo1Linux (Ubuntu 24.04.3 LTS) / x86_64  OK    OK    OK  YES
Package 24/30HostnameOS / ArchINSTALLBUILDCHECKBUILD BIN
PanomiR 1.15.0  (landing page)
Pourya Naderi
git_last_commit: eb18fe4
git_last_commit_date: 2025-10-29 11:14:47 -0500
nebbiolo1Linux (Ubuntu 24.04.3 LTS) / x86_64  OK    OK    OK  UNNEEDED, same version is already published
Package 25/30HostnameOS / ArchINSTALLBUILDCHECKBUILD BIN
pathlinkR 1.7.0  (landing page)
Travis Blimkie
git_last_commit: 5b0516b
git_last_commit_date: 2025-10-29 11:26:48 -0500
nebbiolo1Linux (Ubuntu 24.04.3 LTS) / x86_64  OK    OK    OK  UNNEEDED, same version is already published
Package 26/30HostnameOS / ArchINSTALLBUILDCHECKBUILD BIN
Pigengene 1.37.0  (landing page)
Habil Zare
git_last_commit: b4e2edc
git_last_commit_date: 2025-10-29 10:32:29 -0500
nebbiolo1Linux (Ubuntu 24.04.3 LTS) / x86_64  OK    OK    ERROR  
Package 27/30HostnameOS / ArchINSTALLBUILDCHECKBUILD BIN
ReducedExperiment 1.3.0  (landing page)
Jack Gisby
git_last_commit: 8a1ee25
git_last_commit_date: 2025-10-29 11:33:37 -0500
nebbiolo1Linux (Ubuntu 24.04.3 LTS) / x86_64  OK    OK    OK  UNNEEDED, same version is already published
Package 28/30HostnameOS / ArchINSTALLBUILDCHECKBUILD BIN
RFLOMICS 1.3.0  (landing page)
Nadia Bessoltane
git_last_commit: a7a98e3
git_last_commit_date: 2025-10-29 11:35:35 -0500
nebbiolo1Linux (Ubuntu 24.04.3 LTS) / x86_64  OK    OK    OK  UNNEEDED, same version is already published
Package 29/30HostnameOS / ArchINSTALLBUILDCHECKBUILD BIN
signatureSearch 1.25.0  (landing page)
Brendan Gongol
git_last_commit: 342f9a7
git_last_commit_date: 2025-10-29 10:55:44 -0500
nebbiolo1Linux (Ubuntu 24.04.3 LTS) / x86_64  OK    OK    OK  UNNEEDED, same version is already published
Package 30/30HostnameOS / ArchINSTALLBUILDCHECKBUILD BIN
vsclust 1.13.0  (landing page)
Veit Schwammle
git_last_commit: 72e8c77
git_last_commit_date: 2025-10-29 11:19:19 -0500
nebbiolo1Linux (Ubuntu 24.04.3 LTS) / x86_64  OK    OK    OK  UNNEEDED, same version is already published