Package: clusterExperiment Version: 2.31.0 Command: /home/biocbuild/bbs-3.23-bioc/R/bin/R CMD check --install=check:clusterExperiment.install-out.txt --library=/home/biocbuild/bbs-3.23-bioc/R/site-library --timings clusterExperiment_2.31.0.tar.gz StartedAt: 2025-11-06 21:56:43 -0500 (Thu, 06 Nov 2025) EndedAt: 2025-11-06 22:14:53 -0500 (Thu, 06 Nov 2025) EllapsedTime: 1090.5 seconds RetCode: 0 Status: WARNINGS CheckDir: clusterExperiment.Rcheck Warnings: 2