Package: clusterExperiment Version: 2.31.0 Command: /home/biocbuild/bbs-3.23-bioc/R/bin/R CMD build --keep-empty-dirs --no-resave-data clusterExperiment StartedAt: 2025-11-05 16:55:59 -0500 (Wed, 05 Nov 2025) EndedAt: 2025-11-05 17:01:03 -0500 (Wed, 05 Nov 2025) EllapsedTime: 304.3 seconds RetCode: 0 Status: OK PackageFile: clusterExperiment_2.31.0.tar.gz PackageFileSize: 11.92 MiB