Package: clustSIGNAL Version: 1.1.0 Command: /Library/Frameworks/R.framework/Resources/bin/R CMD check --install=check:clustSIGNAL.install-out.txt --library=/Library/Frameworks/R.framework/Resources/library --no-vignettes --timings clustSIGNAL_1.1.0.tar.gz StartedAt: 2025-10-13 18:46:17 -0400 (Mon, 13 Oct 2025) EndedAt: 2025-10-13 18:47:50 -0400 (Mon, 13 Oct 2025) EllapsedTime: 93.2 seconds RetCode: 0 Status: OK CheckDir: clustSIGNAL.Rcheck Warnings: 0