Package: clustComp Version: 1.37.0 Command: /home/biocbuild/R/R/bin/R CMD check --install=check:clustComp.install-out.txt --library=/home/biocbuild/R/R/site-library --no-vignettes --timings clustComp_1.37.0.tar.gz StartedAt: 2025-10-10 07:15:17 -0000 (Fri, 10 Oct 2025) EndedAt: 2025-10-10 07:15:37 -0000 (Fri, 10 Oct 2025) EllapsedTime: 20.0 seconds RetCode: 0 Status: OK CheckDir: clustComp.Rcheck Warnings: 0