Package: clustComp Version: 1.39.0 Command: /home/biocbuild/bbs-3.23-bioc/R/bin/R CMD INSTALL clustComp StartedAt: 2025-10-31 15:10:19 -0400 (Fri, 31 Oct 2025) EndedAt: 2025-10-31 15:10:26 -0400 (Fri, 31 Oct 2025) EllapsedTime: 7.3 seconds RetCode: 0 Status: OK