Package: clustComp Version: 1.39.0 Command: /home/biocbuild/bbs-3.23-bioc/R/bin/R CMD build --keep-empty-dirs --no-resave-data clustComp StartedAt: 2025-10-31 17:05:43 -0400 (Fri, 31 Oct 2025) EndedAt: 2025-10-31 17:06:42 -0400 (Fri, 31 Oct 2025) EllapsedTime: 59.1 seconds RetCode: 0 Status: OK PackageFile: clustComp_1.39.0.tar.gz PackageFileSize: 931.5 KiB