Package: clstutils Version: 1.57.0 Command: /home/biocbuild/R/R/bin/R CMD INSTALL clstutils StartedAt: 2025-10-02 20:23:55 -0000 (Thu, 02 Oct 2025) EndedAt: 2025-10-02 20:25:08 -0000 (Thu, 02 Oct 2025) EllapsedTime: 72.6 seconds RetCode: 0 Status: OK