Package: clstutils Version: 1.57.0 Command: chmod a+r clstutils -R && F:\biocbuild\bbs-3.22-bioc\R\bin\R.exe CMD build --keep-empty-dirs --no-resave-data clstutils StartedAt: 2025-08-14 19:10:35 -0400 (Thu, 14 Aug 2025) EndedAt: 2025-08-14 19:11:10 -0400 (Thu, 14 Aug 2025) EllapsedTime: 34.9 seconds RetCode: 0 Status: OK PackageFile: clstutils_1.57.0.tar.gz PackageFileSize: 2.453 MiB