Package: clstutils Version: 1.57.0 Command: rm -rf clstutils.buildbin-libdir && mkdir clstutils.buildbin-libdir && F:\biocbuild\bbs-3.22-bioc\R\bin\R.exe CMD INSTALL --build --library=clstutils.buildbin-libdir clstutils_1.57.0.tar.gz StartedAt: 2025-08-15 09:58:34 -0400 (Fri, 15 Aug 2025) EndedAt: 2025-08-15 09:58:46 -0400 (Fri, 15 Aug 2025) EllapsedTime: 11.6 seconds RetCode: 0 Status: OK PackageFile: clstutils_1.57.0.zip PackageFileSize: 2.486 MiB