Package: clstutils Version: 1.59.0 Command: /home/biocbuild/bbs-3.23-bioc/R/bin/R CMD INSTALL clstutils StartedAt: 2025-11-07 15:07:07 -0500 (Fri, 07 Nov 2025) EndedAt: 2025-11-07 15:07:43 -0500 (Fri, 07 Nov 2025) EllapsedTime: 36.2 seconds RetCode: 0 Status: OK