Package: clstutils Version: 1.59.0 Command: /home/biocbuild/bbs-3.23-bioc/R/bin/R CMD check --install=check:clstutils.install-out.txt --library=/home/biocbuild/bbs-3.23-bioc/R/site-library --timings clstutils_1.59.0.tar.gz StartedAt: 2025-11-11 22:09:48 -0500 (Tue, 11 Nov 2025) EndedAt: 2025-11-11 22:10:47 -0500 (Tue, 11 Nov 2025) EllapsedTime: 59.1 seconds RetCode: 0 Status: WARNINGS CheckDir: clstutils.Rcheck Warnings: 1