Package: clstutils Version: 1.59.0 Command: /home/biocbuild/bbs-3.23-bioc/R/bin/R CMD build --keep-empty-dirs --no-resave-data clstutils StartedAt: 2025-11-07 16:49:15 -0500 (Fri, 07 Nov 2025) EndedAt: 2025-11-07 16:49:30 -0500 (Fri, 07 Nov 2025) EllapsedTime: 15.0 seconds RetCode: 0 Status: OK PackageFile: clstutils_1.59.0.tar.gz PackageFileSize: 2.694 MiB