Package: clst Version: 1.59.0 Command: /home/biocbuild/bbs-3.23-bioc/R/bin/R CMD check --install=check:clst.install-out.txt --library=/home/biocbuild/bbs-3.23-bioc/R/site-library --timings clst_1.59.0.tar.gz StartedAt: 2025-11-21 22:07:04 -0500 (Fri, 21 Nov 2025) EndedAt: 2025-11-21 22:07:43 -0500 (Fri, 21 Nov 2025) EllapsedTime: 39.0 seconds RetCode: 0 Status: WARNINGS CheckDir: clst.Rcheck Warnings: 1