Package: clst Version: 1.59.0 Command: /home/biocbuild/bbs-3.23-bioc/R/bin/R CMD build --keep-empty-dirs --no-resave-data clst StartedAt: 2025-11-20 16:50:53 -0500 (Thu, 20 Nov 2025) EndedAt: 2025-11-20 16:51:08 -0500 (Thu, 20 Nov 2025) EllapsedTime: 15.0 seconds RetCode: 0 Status: OK PackageFile: clst_1.59.0.tar.gz PackageFileSize: 1.017 MiB