Package: cliqueMS Version: 1.25.0 Command: /home/biocbuild/bbs-3.23-bioc/R/bin/R CMD INSTALL cliqueMS StartedAt: 2025-11-02 15:52:27 -0500 (Sun, 02 Nov 2025) EndedAt: 2025-11-02 15:53:37 -0500 (Sun, 02 Nov 2025) EllapsedTime: 69.8 seconds RetCode: 0 Status: OK