Package: cliqueMS Version: 1.25.0 Command: /home/biocbuild/bbs-3.23-bioc/R/bin/R CMD build --keep-empty-dirs --no-resave-data cliqueMS StartedAt: 2025-11-03 16:47:55 -0500 (Mon, 03 Nov 2025) EndedAt: 2025-11-03 16:49:26 -0500 (Mon, 03 Nov 2025) EllapsedTime: 91.1 seconds RetCode: 0 Status: OK PackageFile: cliqueMS_1.25.0.tar.gz PackageFileSize: 555.8 KiB