Package: cliqueMS Version: 1.23.0 Command: /Library/Frameworks/R.framework/Resources/bin/R CMD INSTALL cliqueMS StartedAt: 2025-09-30 15:40:50 -0400 (Tue, 30 Sep 2025) EndedAt: 2025-09-30 15:42:19 -0400 (Tue, 30 Sep 2025) EllapsedTime: 89.5 seconds RetCode: 0 Status: OK