Package: cliqueMS Version: 1.23.0 Command: /Library/Frameworks/R.framework/Resources/bin/R CMD build --keep-empty-dirs --no-resave-data cliqueMS StartedAt: 2025-09-30 16:25:26 -0400 (Tue, 30 Sep 2025) EndedAt: 2025-09-30 16:27:09 -0400 (Tue, 30 Sep 2025) EllapsedTime: 102.8 seconds RetCode: 0 Status: OK PackageFile: cliqueMS_1.23.0.tar.gz PackageFileSize: 555.8 KiB