Package: cliqueMS Version: 1.23.0 Command: rm -rf cliqueMS.buildbin-libdir && mkdir cliqueMS.buildbin-libdir && /Users/biocbuild/BBS/utils/build-universal.sh cliqueMS_1.23.0.tar.gz /Library/Frameworks/R.framework/Resources/bin/R cliqueMS.buildbin-libdir StartedAt: 2025-10-01 01:35:26 -0400 (Wed, 01 Oct 2025) EndedAt: 2025-10-01 01:37:00 -0400 (Wed, 01 Oct 2025) EllapsedTime: 94.0 seconds RetCode: 0 Status: OK PackageFile: cliqueMS_1.23.0.tgz PackageFileSize: 1.043 MiB