Package: clipper Version: 1.49.0 Command: /home/biocbuild/bbs-3.22-bioc/R/bin/R CMD check --install=check:clipper.install-out.txt --library=/home/biocbuild/bbs-3.22-bioc/R/site-library --timings clipper_1.49.0.tar.gz StartedAt: 2025-10-27 22:06:59 -0400 (Mon, 27 Oct 2025) EndedAt: 2025-10-27 22:12:38 -0400 (Mon, 27 Oct 2025) EllapsedTime: 338.4 seconds RetCode: 0 Status: OK CheckDir: clipper.Rcheck Warnings: 0