Package: clipper Version: 1.51.0 Command: /home/biocbuild/bbs-3.23-bioc/R/bin/R CMD build --keep-empty-dirs --no-resave-data clipper StartedAt: 2025-11-07 16:48:52 -0500 (Fri, 07 Nov 2025) EndedAt: 2025-11-07 16:50:03 -0500 (Fri, 07 Nov 2025) EllapsedTime: 70.1 seconds RetCode: 0 Status: OK PackageFile: clipper_1.51.0.tar.gz PackageFileSize: 1006 KiB