Package: clipper Version: 1.49.0 Command: /Library/Frameworks/R.framework/Resources/bin/R CMD INSTALL clipper StartedAt: 2025-10-09 15:39:20 -0400 (Thu, 09 Oct 2025) EndedAt: 2025-10-09 15:40:13 -0400 (Thu, 09 Oct 2025) EllapsedTime: 52.6 seconds RetCode: 0 Status: OK