Package: clipper Version: 1.49.0 Command: /Library/Frameworks/R.framework/Resources/bin/R CMD build --keep-empty-dirs --no-resave-data clipper StartedAt: 2025-10-09 16:27:58 -0400 (Thu, 09 Oct 2025) EndedAt: 2025-10-09 16:29:22 -0400 (Thu, 09 Oct 2025) EllapsedTime: 84.5 seconds RetCode: 0 Status: OK PackageFile: clipper_1.49.0.tar.gz PackageFileSize: 1006 KiB