Package: clipper Version: 1.49.0 Command: rm -rf clipper.buildbin-libdir && mkdir clipper.buildbin-libdir && /Users/biocbuild/BBS/utils/build-universal.sh clipper_1.49.0.tar.gz /Library/Frameworks/R.framework/Resources/bin/R clipper.buildbin-libdir StartedAt: 2025-10-10 02:27:55 -0400 (Fri, 10 Oct 2025) EndedAt: 2025-10-10 02:28:51 -0400 (Fri, 10 Oct 2025) EllapsedTime: 56.7 seconds RetCode: 0 Status: OK PackageFile: clipper_1.49.0.tgz PackageFileSize: 714.5 KiB