Package: clipper Version: 1.49.0 Command: /Library/Frameworks/R.framework/Resources/bin/R CMD INSTALL clipper StartedAt: 2025-10-17 15:22:32 -0400 (Fri, 17 Oct 2025) EndedAt: 2025-10-17 15:22:48 -0400 (Fri, 17 Oct 2025) EllapsedTime: 16.3 seconds RetCode: 0 Status: OK