Package: clipper Version: 1.49.0 Command: /Library/Frameworks/R.framework/Resources/bin/R CMD build --keep-empty-dirs --no-resave-data clipper StartedAt: 2025-10-17 15:56:48 -0400 (Fri, 17 Oct 2025) EndedAt: 2025-10-17 15:57:18 -0400 (Fri, 17 Oct 2025) EllapsedTime: 30.3 seconds RetCode: 0 Status: OK PackageFile: clipper_1.49.0.tar.gz PackageFileSize: 1007 KiB