Package: clippda Version: 1.61.0 Command: /home/biocbuild/bbs-3.23-bioc/R/bin/R CMD INSTALL clippda StartedAt: 2025-10-31 15:20:38 -0400 (Fri, 31 Oct 2025) EndedAt: 2025-10-31 15:20:46 -0400 (Fri, 31 Oct 2025) EllapsedTime: 7.9 seconds RetCode: 0 Status: OK