Package: clippda Version: 1.61.0 Command: /home/biocbuild/bbs-3.23-bioc/R/bin/R CMD build --keep-empty-dirs --no-resave-data clippda StartedAt: 2025-10-31 17:04:54 -0400 (Fri, 31 Oct 2025) EndedAt: 2025-10-31 17:06:13 -0400 (Fri, 31 Oct 2025) EllapsedTime: 79.1 seconds RetCode: 0 Status: OK PackageFile: clippda_1.61.0.tar.gz PackageFileSize: 1.493 MiB