Package: clippda Version: 1.61.0 Command: /Library/Frameworks/R.framework/Resources/bin/R CMD INSTALL clippda StartedAt: 2025-11-20 15:19:12 -0500 (Thu, 20 Nov 2025) EndedAt: 2025-11-20 15:19:24 -0500 (Thu, 20 Nov 2025) EllapsedTime: 12.0 seconds RetCode: 0 Status: OK