Package: clippda Version: 1.61.0 Command: /Library/Frameworks/R.framework/Resources/bin/R CMD build --keep-empty-dirs --no-resave-data clippda StartedAt: 2025-11-20 16:29:49 -0500 (Thu, 20 Nov 2025) EndedAt: 2025-11-20 16:31:12 -0500 (Thu, 20 Nov 2025) EllapsedTime: 83.3 seconds RetCode: 0 Status: OK PackageFile: clippda_1.61.0.tar.gz PackageFileSize: 1.494 MiB