Package: clippda Version: 1.61.0 Command: rm -rf clippda.buildbin-libdir && mkdir clippda.buildbin-libdir && /Users/biocbuild/BBS/utils/build-universal.sh clippda_1.61.0.tar.gz /Library/Frameworks/R.framework/Resources/bin/R clippda.buildbin-libdir StartedAt: 2025-11-21 01:26:55 -0500 (Fri, 21 Nov 2025) EndedAt: 2025-11-21 01:27:07 -0500 (Fri, 21 Nov 2025) EllapsedTime: 12.8 seconds RetCode: 0 Status: OK PackageFile: clippda_1.61.0.tgz PackageFileSize: 1.745 MiB