Package: clippda Version: 1.59.0 Command: /Library/Frameworks/R.framework/Resources/bin/R CMD INSTALL clippda StartedAt: 2025-10-08 15:13:01 -0400 (Wed, 08 Oct 2025) EndedAt: 2025-10-08 15:13:05 -0400 (Wed, 08 Oct 2025) EllapsedTime: 3.5 seconds RetCode: 0 Status: OK