Package: clippda Version: 1.59.0 Command: /Library/Frameworks/R.framework/Resources/bin/R CMD build --keep-empty-dirs --no-resave-data clippda StartedAt: 2025-10-08 16:02:00 -0400 (Wed, 08 Oct 2025) EndedAt: 2025-10-08 16:02:39 -0400 (Wed, 08 Oct 2025) EllapsedTime: 39.5 seconds RetCode: 0 Status: OK PackageFile: clippda_1.59.0.tar.gz PackageFileSize: 1.492 MiB