Package: cliProfiler Version: 1.17.0 Command: /home/biocbuild/bbs-3.23-bioc/R/bin/R CMD INSTALL cliProfiler StartedAt: 2025-11-03 15:28:52 -0500 (Mon, 03 Nov 2025) EndedAt: 2025-11-03 15:29:28 -0500 (Mon, 03 Nov 2025) EllapsedTime: 35.9 seconds RetCode: 0 Status: OK