Package: cliProfiler Version: 1.17.0 Command: /home/biocbuild/bbs-3.23-bioc/R/bin/R CMD build --keep-empty-dirs --no-resave-data cliProfiler StartedAt: 2025-11-03 16:47:46 -0500 (Mon, 03 Nov 2025) EndedAt: 2025-11-03 16:48:58 -0500 (Mon, 03 Nov 2025) EllapsedTime: 72.1 seconds RetCode: 0 Status: OK PackageFile: cliProfiler_1.17.0.tar.gz PackageFileSize: 1.209 MiB