Package: cliProfiler Version: 1.15.0 Command: /Library/Frameworks/R.framework/Resources/bin/R CMD INSTALL cliProfiler StartedAt: 2025-10-10 15:19:36 -0400 (Fri, 10 Oct 2025) EndedAt: 2025-10-10 15:19:51 -0400 (Fri, 10 Oct 2025) EllapsedTime: 15.3 seconds RetCode: 0 Status: OK