Package: cliProfiler Version: 1.15.0 Command: rm -rf cliProfiler.buildbin-libdir && mkdir cliProfiler.buildbin-libdir && /Users/biocbuild/BBS/utils/build-universal.sh cliProfiler_1.15.0.tar.gz /Library/Frameworks/R.framework/Resources/bin/R cliProfiler.buildbin-libdir StartedAt: 2025-10-12 22:32:07 -0400 (Sun, 12 Oct 2025) EndedAt: 2025-10-12 22:32:24 -0400 (Sun, 12 Oct 2025) EllapsedTime: 16.3 seconds RetCode: 0 Status: OK PackageFile: cliProfiler_1.15.0.tgz PackageFileSize: 1.383 MiB