Package: clevRvis Version: 1.11.0 Command: /home/biocbuild/bbs-3.23-bioc/R/bin/R CMD INSTALL clevRvis StartedAt: 2025-11-20 15:09:52 -0500 (Thu, 20 Nov 2025) EndedAt: 2025-11-20 15:10:02 -0500 (Thu, 20 Nov 2025) EllapsedTime: 9.9 seconds RetCode: 0 Status: OK