Package: clevRvis Version: 1.11.0 Command: /home/biocbuild/bbs-3.23-bioc/R/bin/R CMD build --keep-empty-dirs --no-resave-data clevRvis StartedAt: 2025-11-20 16:50:06 -0500 (Thu, 20 Nov 2025) EndedAt: 2025-11-20 16:50:31 -0500 (Thu, 20 Nov 2025) EllapsedTime: 25.0 seconds RetCode: 0 Status: OK PackageFile: clevRvis_1.11.0.tar.gz PackageFileSize: 2.304 MiB