Package: clevRvis Version: 1.9.0 Command: /Library/Frameworks/R.framework/Resources/bin/R CMD INSTALL clevRvis StartedAt: 2025-10-14 15:06:15 -0400 (Tue, 14 Oct 2025) EndedAt: 2025-10-14 15:06:19 -0400 (Tue, 14 Oct 2025) EllapsedTime: 4.4 seconds RetCode: 0 Status: OK