Package: clevRvis Version: 1.11.0 Maintainer: Sarah Sandmann MaintainerEmail: sarah.sandmann at uni-muenster.de git_url: https://git.bioconductor.org/packages/clevRvis git_branch: devel git_last_commit: 02b71a5 git_last_commit_date: 2025-10-29 11:20:26 -0400 (Wed, 29 Oct 2025)