Package: cleaver Version: 1.47.0 Command: /Library/Frameworks/R.framework/Resources/bin/R CMD INSTALL cleaver StartedAt: 2025-10-10 15:23:49 -0400 (Fri, 10 Oct 2025) EndedAt: 2025-10-10 15:24:03 -0400 (Fri, 10 Oct 2025) EllapsedTime: 14.0 seconds RetCode: 0 Status: OK