Package: cleanUpdTSeq Version: 1.47.1 Command: chmod a+r cleanUpdTSeq -R && F:\biocbuild\bbs-3.22-bioc\R\bin\R.exe CMD build --keep-empty-dirs --no-resave-data cleanUpdTSeq StartedAt: 2025-08-14 19:08:39 -0400 (Thu, 14 Aug 2025) EndedAt: 2025-08-14 19:10:28 -0400 (Thu, 14 Aug 2025) EllapsedTime: 108.5 seconds RetCode: 0 Status: OK PackageFile: cleanUpdTSeq_1.47.1.tar.gz PackageFileSize: 4.008 MiB