Package: cleanUpdTSeq Version: 1.47.1 Command: rm -rf cleanUpdTSeq.buildbin-libdir && mkdir cleanUpdTSeq.buildbin-libdir && F:\biocbuild\bbs-3.22-bioc\R\bin\R.exe CMD INSTALL --build --library=cleanUpdTSeq.buildbin-libdir cleanUpdTSeq_1.47.1.tar.gz StartedAt: 2025-08-15 09:58:01 -0400 (Fri, 15 Aug 2025) EndedAt: 2025-08-15 09:59:16 -0400 (Fri, 15 Aug 2025) EllapsedTime: 75.7 seconds RetCode: 0 Status: OK PackageFile: cleanUpdTSeq_1.47.1.zip PackageFileSize: 5.868 MiB