Package: cleanUpdTSeq Version: 1.49.0 Command: /home/biocbuild/bbs-3.23-bioc/R/bin/R CMD INSTALL cleanUpdTSeq StartedAt: 2025-11-04 15:33:14 -0500 (Tue, 04 Nov 2025) EndedAt: 2025-11-04 15:34:15 -0500 (Tue, 04 Nov 2025) EllapsedTime: 60.8 seconds RetCode: 0 Status: OK